BEGIN:VCALENDAR
VERSION:2.0
PRODID:-//Berlin Food Week - ECPv6.15.20//NONSGML v1.0//EN
CALSCALE:GREGORIAN
METHOD:PUBLISH
X-ORIGINAL-URL:https://www.berlinfoodweek.de
X-WR-CALDESC:Veranstaltungen für Berlin Food Week
REFRESH-INTERVAL;VALUE=DURATION:PT1H
X-Robots-Tag:noindex
X-PUBLISHED-TTL:PT1H
BEGIN:VTIMEZONE
TZID:Europe/Berlin
BEGIN:DAYLIGHT
TZOFFSETFROM:+0100
TZOFFSETTO:+0200
TZNAME:CEST
DTSTART:20240331T010000
END:DAYLIGHT
BEGIN:STANDARD
TZOFFSETFROM:+0200
TZOFFSETTO:+0100
TZNAME:CET
DTSTART:20241027T010000
END:STANDARD
BEGIN:DAYLIGHT
TZOFFSETFROM:+0100
TZOFFSETTO:+0200
TZNAME:CEST
DTSTART:20250330T010000
END:DAYLIGHT
BEGIN:STANDARD
TZOFFSETFROM:+0200
TZOFFSETTO:+0100
TZNAME:CET
DTSTART:20251026T010000
END:STANDARD
BEGIN:DAYLIGHT
TZOFFSETFROM:+0100
TZOFFSETTO:+0200
TZNAME:CEST
DTSTART:20260329T010000
END:DAYLIGHT
BEGIN:STANDARD
TZOFFSETFROM:+0200
TZOFFSETTO:+0100
TZNAME:CET
DTSTART:20261025T010000
END:STANDARD
END:VTIMEZONE
BEGIN:VEVENT
DTSTART;TZID=Europe/Berlin:20251007T143000
DTEND;TZID=Europe/Berlin:20251007T153000
DTSTAMP:20260421T125159
CREATED:20250911T134054Z
LAST-MODIFIED:20250912T061832Z
UID:10000575-1759847400-1759851000@www.berlinfoodweek.de
SUMMARY:„Fermentation Basics“ im Aerde
DESCRIPTION:
URL:https://www.berlinfoodweek.de/event/fermentation-basics-im-aerde/
LOCATION:Aerde\, Am Lokdepot 6\, Berlin\, Berlin\, 10965\, Germany
CATEGORIES:Gönn dir Gastro
ATTACH;FMTTYPE=image/jpeg:https://www.berlinfoodweek.de/wp-content/uploads/2025/09/image4.jpeg
GEO:52.4870839;13.3735515
X-APPLE-STRUCTURED-LOCATION;VALUE=URI;X-ADDRESS=Aerde Am Lokdepot 6 Berlin Berlin 10965 Germany;X-APPLE-RADIUS=500;X-TITLE=Am Lokdepot 6:geo:13.3735515,52.4870839
END:VEVENT
END:VCALENDAR